Workbook

Sheet Inicio
B18: Movimiento de Asuntos
B19: Renuncias,(la víctima se acoge a la dispensa a no declarar)
B20: Ejecutorias de las Secciones de lo Penal del T.I.
B21: Secciones de lo Penal del T.I. Exclusivo de Ejecutorias
B22: Personas enjuiciadas
B23: Porcentaje de condenados
B24: Incumplimientos
B25: Formas de Terminación

Sheet Movimiento de Asuntos
C9: Total procesos | G9: Procedimientos abreviados | K9: Diligencias Urgentes
C10: Registrados | D10: Reabiertos o reiniciados | E10: Resueltos | F10: Pendientes al finalizar | G10: Registrados | H10: Reabiertos o reiniciados | I10: Resueltos | J10: Pendientes al finalizar | K10: Registrados | L10: Reabiertos o reiniciados | M10: Resueltos | N10: Pendientes al finalizar
B11: Almería | C11: 216 | D11: 0 | E11: 191 | F11: 562 | G11: 99 | H11: 0 | I11: 69 | J11: 424 | K11: 117 | L11: 0 | M11: 122 | N11: 138
B12: Cádiz | C12: 185 | D12: 0 | E12: 323 | F12: 610 | G12: 72 | H12: 0 | I12: 143 | J12: 330 | K12: 113 | L12: 0 | M12: 180 | N12: 280
B13: Córdoba | C13: 183 | D13: 0 | E13: 171 | F13: 451 | G13: 92 | H13: 0 | I13: 95 | J13: 408 | K13: 91 | L13: 0 | M13: 76 | N13: 43
B14: Granada | C14: 118 | D14: 0 | E14: 125 | F14: 288 | G14: 56 | H14: 0 | I14: 66 | J14: 232 | K14: 62 | L14: 0 | M14: 59 | N14: 56
B15: Huelva | C15: 81 | D15: 0 | E15: 105 | F15: 158 | G15: 43 | H15: 0 | I15: 52 | J15: 146 | K15: 38 | L15: 0 | M15: 53 | N15: 12
B16: Jaén | C16: 104 | D16: 0 | E16: 122 | F16: 458 | G16: 87 | H16: 0 | I16: 102 | J16: 422 | K16: 17 | L16: 0 | M16: 20 | N16: 36
B17: Málaga | C17: 461 | D17: 0 | E17: 474 | F17: 2960 | G17: 267 | H17: 0 | I17: 317 | J17: 1748 | K17: 194 | L17: 0 | M17: 157 | N17: 1212
B18: Sevilla | C18: 404 | D18: 0 | E18: 207 | F18: 1184 | G18: 295 | H18: 0 | I18: 138 | J18: 974 | K18: 109 | L18: 0 | M18: 69 | N18: 210
B19: Huesca | C19: 43 | D19: 0 | E19: 37 | F19: 89 | G19: 28 | H19: 0 | I19: 25 | J19: 77 | K19: 15 | L19: 0 | M19: 12 | N19: 12
B20: Teruel | C20: 21 | D20: 0 | E20: 18 | F20: 33 | G20: 8 | H20: 0 | I20: 11 | J20: 24 | K20: 13 | L20: 0 | M20: 7 | N20: 9
B21: Zaragoza | C21: 222 | D21: 2 | E21: 205 | F21: 152 | G21: 146 | H21: 2 | I21: 130 | J21: 142 | K21: 76 | L21: 0 | M21: 75 | N21: 10
B22: Asturias | C22: 330 | D22: 0 | E22: 236 | F22: 783 | G22: 237 | H22: 0 | I22: 125 | J22: 662 | K22: 93 | L22: 0 | M22: 111 | N22: 121
... B60: La Rioja | C60: 76 | D60: 0 | E60: 76 | F60: 89 | G60: 39 | H60: 0 | I60: 30 | J60: 73 | K60: 37 | L60: 0 | M60: 46 | N60: 16
B61: España | C61: =SUM(C11:C60) -> 8837 | D61: =SUM(D11:D60) -> 123 | E61: =SUM(E11:E60) -> 8603 | F61: =SUM(F11:F60) -> 25028 | G61: =SUM(G11:G60) -> 5573 | H61: =SUM(H11:H60) -> 91 | I61: =SUM(I11:I60) -> 5352 | J61: =SUM(J11:J60) -> 18612 | ... N61: =SUM(N11:N60) -> 6416

Sheet Renuncias
C9: Renuncias (Casos en los que la víctima se acoge a la dispensa a la obligación de declarar como testigo Art.416 L.E.CRIM.) | D9: Renuncias por españolas | E9: Renuncias por extranjeras
C10: Por españolas | D10: Por extranjeras | E10: Total
B11: Almería | C11: 0 | D11: 2 | E11: 2
B12: Cádiz | C12: 5 | D12: 1 | E12: 6
B13: Córdoba | C13: 7 | D13: 4 | E13: 11
B14: Granada | C14: 12 | D14: 0 | E14: 12
B15: Huelva | C15: 31 | D15: 9 | E15: 40
B16: Jaén | C16: 10 | D16: 5 | E16: 15
B17: Málaga | C17: 9 | D17: 2 | E17: 11
B18: Sevilla | C18: 11 | D18: 4 | E18: 15
B19: Huesca | C19: 0 | D19: 2 | E19: 2
B20: Teruel | C20: 2 | D20: 0 | E20: 2
B21: Zaragoza | C21: 1 | D21: 3 | E21: 4
B22: Asturias | C22: 6 | D22: 2 | E22: 8
... B60: La Rioja | C60: 3 | D60: 1 | E60: 4
B61: España | C61: =SUM(C11:C60) -> 361 | D61: =SUM(D11:D60) -> 236 | E61: =SUM(E11:E60) -> 597

Sheet Ejecutorias de los Penales
C9: Ejecutorias de los Secciones de Violencia sobre la Mujer del T.I. | G9: de ellas corresponden a conformidades en Juzgados de Instrucción o de violencia contra la mujer
C10: Registrados | D10: Reabiertos o reiniciados | E10: Resueltos | F10: Pendientes final trimestre | G10: Registrados | H10: Reabiertos o reiniciados | I10: Resueltos | J10: Pendientes final trimestre
B11: Almería | C11: 238 | D11: 7 | E11: 166 | F11: 456 | G11: 246 | H11: 30 | I11: 173 | J11: 432
B12: Cádiz | C12: 366 | D12: 162 | E12: 469 | F12: 1412 | G12: 294 | H12: 98 | I12: 380 | J12: 1068
B13: Córdoba | C13: 280 | D13: 0 | E13: 338 | F13: 759 | G13: 162 | H13: 0 | I13: 191 | J13: 307
B14: Granada | C14: 263 | D14: 43 | E14: 133 | F14: 722 | G14: 266 | H14: 77 | I14: 204 | J14: 820
B15: Huelva | C15: 134 | D15: 68 | E15: 142 | F15: 699 | G15: 101 | H15: 38 | I15: 132 | J15: 663
B16: Jaén | C16: 136 | D16: 31 | E16: 243 | F16: 704 | G16: 65 | H16: 17 | I16: 138 | J16: 307
B17: Málaga | C17: 158 | D17: 15 | E17: 77 | F17: 1794 | G17: 138 | H17: 8 | I17: 141 | J17: 990
B18: Sevilla | C18: 169 | D18: 61 | E18: 270 | F18: 1491 | G18: 110 | H18: 47 | I18: 132 | J18: 1187
B19: Huesca | C19: 27 | D19: 0 | E19: 25 | F19: 137 | G19: 29 | H19: 1 | I19: 21 | J19: 223
B20: Teruel | C20: 0 | D20: 0 | E20: 0 | F20: 0 | G20: 14 | H20: 50 | I20: 45 | J20: 49
B21: Zaragoza | C21: 275 | D21: 147 | E21: 316 | F21: 538 | G21: 116 | H21: 72 | I21: 169 | J21: 326
B22: Asturias | C22: 330 | D22: 116 | E22: 412 | F22: 921 | G22: 149 | H22: 92 | I22: 199 | J22: 626
... B60: La Rioja | C60: 63 | D60: 48 | E60: 132 | F60: 419 | G60: 39 | H60: 40 | I60: 89 | J60: 175
B61: España | C61: =SUM(C11:C60) -> 7197 | D61: =SUM(D11:D60) -> 3086 | E61: =SUM(E11:E60) -> 9433 | F61: =SUM(F11:F60) -> 30353 | G61: =SUM(G11:G60) -> 5094 | H61: =SUM(H11:H60) -> 2663 | I61: =SUM(I11:I60) -> 7145 | J61: =SUM(J11:J60) -> 23185

Sheet Penales de Ejecutorias
C9: Procedentes de Secciones de Violencia sobre la Mujer del T.I. | I9: Ejecutorias de sentencias de los Sección de lo Penal del T.I. en Procesos de Violencia de Género
C10: Registrados | D10: Reabiertos o reiniciados | E10: Resueltos: Archivo provisional | F10: Resueltos: Archivo definitivo | G10: Pendientes final trimestre | I10: Registrados | J10: Reabiertos o reiniciados | K10: Resueltos: Archivo provisional | L10: Resueltos: Archivo definitivo | M10: Pendientes final trimestre
G11: Sin incoar | H11: En trámite
B12: Almería | C12: 0 | D12: 0 | E12: 0 | F12: 0 | G12: 0 | H12: 0 | I12: 0 | J12: 0 | K12: 0 | L12: 0 | M12: 0
B13: Cádiz | C13: 0 | D13: 0 | E13: 0 | F13: 0 | G13: 0 | H13: 0 | I13: 0 | J13: 0 | K13: 0 | L13: 0 | M13: 0
B14: Córdoba | C14: 0 | D14: 0 | E14: 0 | F14: 0 | G14: 0 | H14: 0 | I14: 0 | J14: 0 | K14: 0 | L14: 0 | M14: 0
B15: Granada | C15: 0 | D15: 0 | E15: 0 | F15: 0 | G15: 0 | H15: 0 | I15: 0 | J15: 0 | K15: 0 | L15: 0 | M15: 0
B16: Huelva | C16: 0 | D16: 0 | E16: 0 | F16: 0 | G16: 0 | H16: 0 | I16: 0 | J16: 0 | K16: 0 | L16: 0 | M16: 0
B17: Jaén | C17: 0 | D17: 0 | E17: 0 | F17: 0 | G17: 0 | H17: 0 | I17: 0 | J17: 0 | K17: 0 | L17: 0 | M17: 0
B18: Málaga | C18: 0 | D18: 0 | E18: 0 | F18: 0 | G18: 0 | H18: 0 | I18: 0 | J18: 0 | K18: 0 | L18: 0 | M18: 0
B19: Sevilla | C19: 0 | D19: 0 | E19: 0 | F19: 0 | G19: 0 | H19: 0 | I19: 0 | J19: 0 | K19: 0 | L19: 0 | M19: 0
B20: Huesca | C20: 0 | D20: 0 | E20: 0 | F20: 0 | G20: 0 | H20: 0 | I20: 0 | J20: 0 | K20: 0 | L20: 0 | M20: 0
B21: Teruel | C21: 0 | D21: 0 | E21: 0 | F21: 0 | G21: 0 | H21: 0 | I21: 0 | J21: 0 | K21: 0 | L21: 0 | M21: 0
B22: Zaragoza | C22: 0 | D22: 0 | E22: 0 | F22: 0 | G22: 0 | H22: 0 | I22: 0 | J22: 0 | K22: 0 | L22: 0 | M22: 0
B23: Asturias | C23: 0 | D23: 0 | E23: 0 | F23: 0 | G23: 0 | H23: 0 | I23: 0 | J23: 0 | K23: 0 | L23: 0 | M23: 0
... B61: La Rioja | C61: 0 | D61: 0 | E61: 0 | F61: 0 | G61: 0 | H61: 0 | I61: 0 | J61: 0 | K61: 0 | L61: 0 | M61: 0
B62: España | C62: =SUM(C12:C61) -> 1587 | D62: =SUM(D12:D61) -> 293 | E62: =SUM(E12:E61) -> 597 | F62: =SUM(F12:F61) -> 444 | G62: =SUM(G12:G61) -> 364 | H62: =SUM(H12:H61) -> 7040 | I62: =SUM(I12:I61) -> 2147 | J62: =SUM(J12:J61) -> 554 | ... M62: =SUM(M12:M61) -> 9232

Sheet Personas Enjuiciadas
C9: Varones | H9: Mujeres | M9: Total
C10: Número | D10: Condenado Español | E10: Condenado Extranjero | F10: Absuelto Español | G10: Absuelto Extranjero | H10: Número | I10: Condenado Español | J10: Condenado Extranjero | K10: Absuelto Español | L10: Absuelto Extranjero | M10: Número | N10: Condenado Español | O10: Condenado Extranjero | P10: Absuelto Español | Q10: Absuelto Extranjero
B11: Almería | C11: 181 | D11: 24 | E11: 80 | F11: 56 | G11: 21 | H11: 0 | I11: 0 | J11: 0 | K11: 0 | L11: 0 | M11: 181 | N11: 24 | O11: 80 | P11: 56 | Q11: 21
B12: Cádiz | C12: 321 | D12: 176 | E12: 26 | F12: 112 | G12: 7 | H12: 1 | I12: 0 | J12: 0 | K12: 1 | L12: 0 | M12: 322 | N12: 176 | O12: 26 | P12: 113 | Q12: 7
B13: Córdoba | C13: 164 | D13: 76 | E13: 23 | F13: 56 | G13: 9 | H13: 0 | I13: 0 | J13: 0 | K13: 0 | L13: 0 | M13: 164 | N13: 76 | O13: 23 | P13: 56 | Q13: 9
B14: Granada | C14: 113 | D14: 56 | E14: 14 | F14: 35 | G14: 8 | H14: 0 | I14: 0 | J14: 0 | K14: 0 | L14: 0 | M14: 113 | N14: 56 | O14: 14 | P14: 35 | Q14: 8
B15: Huelva | C15: 97 | D15: 56 | E15: 3 | F15: 37 | G15: 1 | H15: 5 | I15: 0 | J15: 0 | K15: 5 | L15: 0 | M15: 102 | N15: 56 | O15: 3 | P15: 42 | Q15: 1
B16: Jaén | C16: 122 | D16: 80 | E16: 22 | F16: 17 | G16: 3 | H16: 0 | I16: 0 | J16: 0 | K16: 0 | L16: 0 | M16: 122 | N16: 80 | O16: 22 | P16: 17 | Q16: 3
B17: Málaga | C17: 427 | D17: 187 | E17: 62 | F17: 133 | G17: 45 | H17: 0 | I17: 0 | J17: 0 | K17: 0 | L17: 0 | M17: 427 | N17: 187 | O17: 62 | P17: 133 | Q17: 45
B18: Sevilla | C18: 199 | D18: 120 | E18: 27 | F18: 43 | G18: 9 | H18: 0 | I18: 0 | J18: 0 | K18: 0 | L18: 0 | M18: 199 | N18: 120 | O18: 27 | P18: 43 | Q18: 9
B19: Huesca | C19: 35 | D19: 23 | E19: 9 | F19: 1 | G19: 2 | H19: 0 | I19: 0 | J19: 0 | K19: 0 | L19: 0 | M19: 35 | N19: 23 | O19: 9 | P19: 1 | Q19: 2
B20: Teruel | C20: 18 | D20: 9 | E20: 6 | F20: 2 | G20: 1 | H20: 0 | I20: 0 | J20: 0 | K20: 0 | L20: 0 | M20: 18 | N20: 9 | O20: 6 | P20: 2 | Q20: 1
B21: Zaragoza | C21: 187 | D21: 80 | E21: 64 | F21: 33 | G21: 10 | H21: 0 | I21: 0 | J21: 0 | K21: 0 | L21: 0 | M21: 187 | N21: 80 | O21: 64 | P21: 33 | Q21: 10
B22: Asturias | C22: 224 | D22: 151 | E22: 27 | F22: 40 | G22: 6 | H22: 1 | I22: 1 | J22: 0 | K22: 0 | L22: 0 | M22: 225 | N22: 152 | O22: 27 | P22: 40 | Q22: 6
... B60: La Rioja | C60: 75 | D60: 48 | E60: 6 | F60: 16 | G60: 5 | H60: 0 | I60: 0 | J60: 0 | K60: 0 | L60: 0 | M60: 75 | N60: 48 | O60: 6 | P60: 16 | Q60: 5
B61: España | C61: =SUM(C11:C60) -> 8267 | D61: =SUM(D11:D60) -> 3706 | E61: =SUM(E11:E60) -> 2226 | F61: =SUM(F11:F60) -> 1545 | G61: =SUM(G11:G60) -> 790 | H61: =SUM(H11:H60) -> 96 | I61: =SUM(I11:I60) -> 24 | J61: =SUM(J11:J60) -> 22 | ... Q61: =SUM(Q11:Q60) -> 811

Sheet Porcentaje Condenas
C9: Condenas
C10: % condenas entre los enjuiciados | D10: % condenas entre los españoles enjuiciados | E10: % condenas entre los extranjeros enjuiciados
B11: Almería | C11: =+IF('Personas Enjuiciadas'!M11>0,('Personas Enjuiciadas'!D11+'Personas Enjuiciadas'!E11+'Personas Enjuiciadas'!I11+'Personas Enjuiciadas'!J11)/'Personas Enjuiciadas'!M11,"-") -> 0.57458564 | D11: =+IF(('Personas Enjuiciadas'!N11+'Personas Enjuiciadas'!P11)>0,('Personas Enjuiciadas'!D11+'Personas Enjuiciadas'!I11)/('Personas Enjuiciadas'!N11+'Personas Enjuiciadas'!P11),"-") -> 0.3 | E11: =+IF(('Personas Enjuiciadas'!O11+'Personas Enjuiciadas'!Q11)>0,('Personas Enjuiciadas'!E11+'Personas Enjuiciadas'!J11)/('Personas Enjuiciadas'!O11+'Personas Enjuiciadas'!Q11),"-") -> 0.79207921
B12: Cádiz | C12: =+IF('Personas Enjuiciadas'!M12>0,('Personas Enjuiciadas'!D12+'Personas Enjuiciadas'!E12+'Personas Enjuiciadas'!I12+'Personas Enjuiciadas'!J12)/'Personas Enjuiciadas'!M12,"-") -> 0.62732919 | D12: =+IF(('Personas Enjuiciadas'!N12+'Personas Enjuiciadas'!P12)>0,('Personas Enjuiciadas'!D12+'Personas Enjuiciadas'!I12)/('Personas Enjuiciadas'!N12+'Personas Enjuiciadas'!P12),"-") -> 0.60899654 | E12: =+IF(('Personas Enjuiciadas'!O12+'Personas Enjuiciadas'!Q12)>0,('Personas Enjuiciadas'!E12+'Personas Enjuiciadas'!J12)/('Personas Enjuiciadas'!O12+'Personas Enjuiciadas'!Q12),"-") -> 0.78787879
B13: Córdoba | C13: =+IF('Personas Enjuiciadas'!M13>0,('Personas Enjuiciadas'!D13+'Personas Enjuiciadas'!E13+'Personas Enjuiciadas'!I13+'Personas Enjuiciadas'!J13)/'Personas Enjuiciadas'!M13,"-") -> 0.60365854 | D13: =+IF(('Personas Enjuiciadas'!N13+'Personas Enjuiciadas'!P13)>0,('Personas Enjuiciadas'!D13+'Personas Enjuiciadas'!I13)/('Personas Enjuiciadas'!N13+'Personas Enjuiciadas'!P13),"-") -> 0.57575758 | E13: =+IF(('Personas Enjuiciadas'!O13+'Personas Enjuiciadas'!Q13)>0,('Personas Enjuiciadas'!E13+'Personas Enjuiciadas'!J13)/('Personas Enjuiciadas'!O13+'Personas Enjuiciadas'!Q13),"-") -> 0.71875
B14: Granada | C14: =+IF('Personas Enjuiciadas'!M14>0,('Personas Enjuiciadas'!D14+'Personas Enjuiciadas'!E14+'Personas Enjuiciadas'!I14+'Personas Enjuiciadas'!J14)/'Personas Enjuiciadas'!M14,"-") -> 0.61946903 | D14: =+IF(('Personas Enjuiciadas'!N14+'Personas Enjuiciadas'!P14)>0,('Personas Enjuiciadas'!D14+'Personas Enjuiciadas'!I14)/('Personas Enjuiciadas'!N14+'Personas Enjuiciadas'!P14),"-") -> 0.61538462 | E14: =+IF(('Personas Enjuiciadas'!O14+'Personas Enjuiciadas'!Q14)>0,('Personas Enjuiciadas'!E14+'Personas Enjuiciadas'!J14)/('Personas Enjuiciadas'!O14+'Personas Enjuiciadas'!Q14),"-") -> 0.63636364
B15: Huelva | C15: =+IF('Personas Enjuiciadas'!M15>0,('Personas Enjuiciadas'!D15+'Personas Enjuiciadas'!E15+'Personas Enjuiciadas'!I15+'Personas Enjuiciadas'!J15)/'Personas Enjuiciadas'!M15,"-") -> 0.57843137 | D15: =+IF(('Personas Enjuiciadas'!N15+'Personas Enjuiciadas'!P15)>0,('Personas Enjuiciadas'!D15+'Personas Enjuiciadas'!I15)/('Personas Enjuiciadas'!N15+'Personas Enjuiciadas'!P15),"-") -> 0.57142857 | E15: =+IF(('Personas Enjuiciadas'!O15+'Personas Enjuiciadas'!Q15)>0,('Personas Enjuiciadas'!E15+'Personas Enjuiciadas'!J15)/('Personas Enjuiciadas'!O15+'Personas Enjuiciadas'!Q15),"-") -> 0.75
B16: Jaén | C16: =+IF('Personas Enjuiciadas'!M16>0,('Personas Enjuiciadas'!D16+'Personas Enjuiciadas'!E16+'Personas Enjuiciadas'!I16+'Personas Enjuiciadas'!J16)/'Personas Enjuiciadas'!M16,"-") -> 0.83606557 | D16: =+IF(('Personas Enjuiciadas'!N16+'Personas Enjuiciadas'!P16)>0,('Personas Enjuiciadas'!D16+'Personas Enjuiciadas'!I16)/('Personas Enjuiciadas'!N16+'Personas Enjuiciadas'!P16),"-") -> 0.82474227 | E16: =+IF(('Personas Enjuiciadas'!O16+'Personas Enjuiciadas'!Q16)>0,('Personas Enjuiciadas'!E16+'Personas Enjuiciadas'!J16)/('Personas Enjuiciadas'!O16+'Personas Enjuiciadas'!Q16),"-") -> 0.88
B17: Málaga | C17: =+IF('Personas Enjuiciadas'!M17>0,('Personas Enjuiciadas'!D17+'Personas Enjuiciadas'!E17+'Personas Enjuiciadas'!I17+'Personas Enjuiciadas'!J17)/'Personas Enjuiciadas'!M17,"-") -> 0.58313817 | D17: =+IF(('Personas Enjuiciadas'!N17+'Personas Enjuiciadas'!P17)>0,('Personas Enjuiciadas'!D17+'Personas Enjuiciadas'!I17)/('Personas Enjuiciadas'!N17+'Personas Enjuiciadas'!P17),"-") -> 0.584375 | E17: =+IF(('Personas Enjuiciadas'!O17+'Personas Enjuiciadas'!Q17)>0,('Personas Enjuiciadas'!E17+'Personas Enjuiciadas'!J17)/('Personas Enjuiciadas'!O17+'Personas Enjuiciadas'!Q17),"-") -> 0.57943925
B18: Sevilla | C18: =+IF('Personas Enjuiciadas'!M18>0,('Personas Enjuiciadas'!D18+'Personas Enjuiciadas'!E18+'Personas Enjuiciadas'!I18+'Personas Enjuiciadas'!J18)/'Personas Enjuiciadas'!M18,"-") -> 0.73869347 | D18: =+IF(('Personas Enjuiciadas'!N18+'Personas Enjuiciadas'!P18)>0,('Personas Enjuiciadas'!D18+'Personas Enjuiciadas'!I18)/('Personas Enjuiciadas'!N18+'Personas Enjuiciadas'!P18),"-") -> 0.73619632 | E18: =+IF(('Personas Enjuiciadas'!O18+'Personas Enjuiciadas'!Q18)>0,('Personas Enjuiciadas'!E18+'Personas Enjuiciadas'!J18)/('Personas Enjuiciadas'!O18+'Personas Enjuiciadas'!Q18),"-") -> 0.75
B19: Huesca | C19: =+IF('Personas Enjuiciadas'!M19>0,('Personas Enjuiciadas'!D19+'Personas Enjuiciadas'!E19+'Personas Enjuiciadas'!I19+'Personas Enjuiciadas'!J19)/'Personas Enjuiciadas'!M19,"-") -> 0.91428571 | D19: =+IF(('Personas Enjuiciadas'!N19+'Personas Enjuiciadas'!P19)>0,('Personas Enjuiciadas'!D19+'Personas Enjuiciadas'!I19)/('Personas Enjuiciadas'!N19+'Personas Enjuiciadas'!P19),"-") -> 0.95833333 | E19: =+IF(('Personas Enjuiciadas'!O19+'Personas Enjuiciadas'!Q19)>0,('Personas Enjuiciadas'!E19+'Personas Enjuiciadas'!J19)/('Personas Enjuiciadas'!O19+'Personas Enjuiciadas'!Q19),"-") -> 0.81818182
B20: Teruel | C20: =+IF('Personas Enjuiciadas'!M20>0,('Personas Enjuiciadas'!D20+'Personas Enjuiciadas'!E20+'Personas Enjuiciadas'!I20+'Personas Enjuiciadas'!J20)/'Personas Enjuiciadas'!M20,"-") -> 0.83333333 | D20: =+IF(('Personas Enjuiciadas'!N20+'Personas Enjuiciadas'!P20)>0,('Personas Enjuiciadas'!D20+'Personas Enjuiciadas'!I20)/('Personas Enjuiciadas'!N20+'Personas Enjuiciadas'!P20),"-") -> 0.81818182 | E20: =+IF(('Personas Enjuiciadas'!O20+'Personas Enjuiciadas'!Q20)>0,('Personas Enjuiciadas'!E20+'Personas Enjuiciadas'!J20)/('Personas Enjuiciadas'!O20+'Personas Enjuiciadas'!Q20),"-") -> 0.85714286
B21: Zaragoza | C21: =+IF('Personas Enjuiciadas'!M21>0,('Personas Enjuiciadas'!D21+'Personas Enjuiciadas'!E21+'Personas Enjuiciadas'!I21+'Personas Enjuiciadas'!J21)/'Personas Enjuiciadas'!M21,"-") -> 0.77005348 | D21: =+IF(('Personas Enjuiciadas'!N21+'Personas Enjuiciadas'!P21)>0,('Personas Enjuiciadas'!D21+'Personas Enjuiciadas'!I21)/('Personas Enjuiciadas'!N21+'Personas Enjuiciadas'!P21),"-") -> 0.7079646 | E21: =+IF(('Personas Enjuiciadas'!O21+'Personas Enjuiciadas'!Q21)>0,('Personas Enjuiciadas'!E21+'Personas Enjuiciadas'!J21)/('Personas Enjuiciadas'!O21+'Personas Enjuiciadas'!Q21),"-") -> 0.86486486
B22: Asturias | C22: =+IF('Personas Enjuiciadas'!M22>0,('Personas Enjuiciadas'!D22+'Personas Enjuiciadas'!E22+'Personas Enjuiciadas'!I22+'Personas Enjuiciadas'!J22)/'Personas Enjuiciadas'!M22,"-") -> 0.79555556 | D22: =+IF(('Personas Enjuiciadas'!N22+'Personas Enjuiciadas'!P22)>0,('Personas Enjuiciadas'!D22+'Personas Enjuiciadas'!I22)/('Personas Enjuiciadas'!N22+'Personas Enjuiciadas'!P22),"-") -> 0.79166667 | E22: =+IF(('Personas Enjuiciadas'!O22+'Personas Enjuiciadas'!Q22)>0,('Personas Enjuiciadas'!E22+'Personas Enjuiciadas'!J22)/('Personas Enjuiciadas'!O22+'Personas Enjuiciadas'!Q22),"-") -> 0.81818182
... B61: España | C61: =+IF('Personas Enjuiciadas'!M61>0,('Personas Enjuiciadas'!D61+'Personas Enjuiciadas'!E61+'Personas Enjuiciadas'!I61+'Personas Enjuiciadas'!J61)/'Personas Enjuiciadas'!M61,"-") -> 0.71481526 | D61: =+IF(('Personas Enjuiciadas'!N61+'Personas Enjuiciadas'!P61)>0,('Personas Enjuiciadas'!D61+'Personas Enjuiciadas'!I61)/('Personas Enjuiciadas'!N61+'Personas Enjuiciadas'!P61),"-") -> 0.70324284 | E61: =+IF(('Personas Enjuiciadas'!O61+'Personas Enjuiciadas'!Q61)>0,('Personas Enjuiciadas'!E61+'Personas Enjuiciadas'!J61)/('Personas Enjuiciadas'!O61+'Personas Enjuiciadas'!Q61),"-") -> 0.73488068

Sheet Incumplimientos
C9: Incumplimiento de Medidas
C10: Medidas Cautelares Naturaleza Penal | D10: Medidas Cautelares Naturaleza Civil | E10: De penas art. 48 con relación Art. 57
B11: Almería | C11: 0 | D11: 0 | E11: 0
B12: Cádiz | C12: 26 | D12: 0 | E12: 20
B13: Córdoba | C13: 0 | D13: 0 | E13: 0
B14: Granada | C14: 5 | D14: 0 | E14: 20
B15: Huelva | C15: 0 | D15: 0 | E15: 0
B16: Jaén | C16: 0 | D16: 0 | E16: 0
B17: Málaga | C17: 0 | D17: 0 | E17: 0
B18: Sevilla | C18: 0 | D18: 0 | E18: 0
B19: Huesca | C19: 0 | D19: 0 | E19: 0
B20: Teruel | C20: 0 | D20: 0 | E20: 0
B21: Zaragoza | C21: 6 | D21: 0 | E21: 0
B22: Asturias | C22: 34 | D22: 0 | E22: 10
... B60: La Rioja | C60: 0 | D60: 0 | E60: 0
B61: España | C61: =SUM(C11:C60) -> 337 | D61: =SUM(D11:D60) -> 18 | E61: =SUM(E11:E60) -> 256

Sheet Terminación
C9: Formas de Terminación
C10: Sentencias | F10: Por Archivo Definitivo | G10: Por otras Causas
C11: Condenatorias previa conformidad | D11: Condenatoria | E11: Absolutoria
B12: Almería | C12: 48 | D12: 56 | E12: 77 | F12: 0 | G12: 10
B13: Cádiz | C13: 139 | D13: 63 | E13: 119 | F13: 2 | G13: 0
B14: Córdoba | C14: 68 | D14: 31 | E14: 65 | F14: 0 | G14: 7
B15: Granada | C15: 43 | D15: 27 | E15: 43 | F15: 0 | G15: 12
B16: Huelva | C16: 32 | D16: 27 | E16: 43 | F16: 3 | G16: 0
B17: Jaén | C17: 65 | D17: 37 | E17: 20 | F17: 0 | G17: 0
B18: Málaga | C18: 182 | D18: 67 | E18: 178 | F18: 41 | G18: 6
B19: Sevilla | C19: 108 | D19: 39 | E19: 51 | F19: 1 | G19: 8
B20: Huesca | C20: 20 | D20: 12 | E20: 3 | F20: 0 | G20: 2
B21: Teruel | C21: 11 | D21: 4 | E21: 3 | F21: 0 | G21: 0
B22: Zaragoza | C22: 112 | D22: 32 | E22: 43 | F22: 18 | G22: 0
B23: Asturias | C23: 109 | D23: 69 | E23: 46 | F23: 0 | G23: 12
... B61: La Rioja | C61: 52 | D61: 2 | E61: 21 | F61: 0 | G61: 1
B62: España | C62: =SUM(C12:C61) -> 3948 | D62: =SUM(D12:D61) -> 1983 | E62: =SUM(E12:E61) -> 2328 | F62: =SUM(F12:F61) -> 159 | G62: =SUM(G12:G61) -> 185
